BEGIN:VCALENDAR
VERSION:2.0
PRODID:-//Holcomb Farm - ECPv6.15.17//NONSGML v1.0//EN
CALSCALE:GREGORIAN
METHOD:PUBLISH
X-ORIGINAL-URL:https://holcombfarm.org
X-WR-CALDESC:Events for Holcomb Farm
REFRESH-INTERVAL;VALUE=DURATION:PT1H
X-Robots-Tag:noindex
X-PUBLISHED-TTL:PT1H
BEGIN:VTIMEZONE
TZID:America/New_York
BEGIN:DAYLIGHT
TZOFFSETFROM:-0500
TZOFFSETTO:-0400
TZNAME:EDT
DTSTART:20190310T070000
END:DAYLIGHT
BEGIN:STANDARD
TZOFFSETFROM:-0400
TZOFFSETTO:-0500
TZNAME:EST
DTSTART:20191103T060000
END:STANDARD
BEGIN:DAYLIGHT
TZOFFSETFROM:-0500
TZOFFSETTO:-0400
TZNAME:EDT
DTSTART:20200308T070000
END:DAYLIGHT
BEGIN:STANDARD
TZOFFSETFROM:-0400
TZOFFSETTO:-0500
TZNAME:EST
DTSTART:20201101T060000
END:STANDARD
BEGIN:DAYLIGHT
TZOFFSETFROM:-0500
TZOFFSETTO:-0400
TZNAME:EDT
DTSTART:20210314T070000
END:DAYLIGHT
BEGIN:STANDARD
TZOFFSETFROM:-0400
TZOFFSETTO:-0500
TZNAME:EST
DTSTART:20211107T060000
END:STANDARD
END:VTIMEZONE
BEGIN:VEVENT
DTSTART;TZID=America/New_York:20200314T100000
DTEND;TZID=America/New_York:20200314T150000
DTSTAMP:20260423T233316
CREATED:20200313T160828Z
LAST-MODIFIED:20200313T160828Z
UID:7594-1584180000-1584198000@holcombfarm.org
SUMMARY:St. Paddy's Day Veggie Sale
DESCRIPTION:“Boxes” of Veggies will be $55 for general public and $50 for 2020 CSA members \nYou will get to pick and choose what items you want to take home\, options will include: Carrots\, Beets\, Watermelon Radishes\, Spinach\, Purple & Green Daikon Radishes\, Baby Kale\, Black Radishes\, Crushed Tomatoes\, Kohlrabi\, Gilfeather Turnips\, Arugula\, Garlic Scape Pesto\, Onions\, Purple Top Turnips\, Asian Salad Mix\, Sunchokes\, Parnsips\, Celeriac\, Arugula Pesto\, Dried Hot Peppers\, Potatoes. \nPick up at the CSA Barn. \n2020 CSA members get 2 lbs of carrots FREE just for coming by!
URL:https://holcombfarm.org/event/st-paddys-day-veggie-sale-2/
LOCATION:CT
END:VEVENT
END:VCALENDAR