BEGIN:VCALENDAR
VERSION:2.0
PRODID:-//Holcomb Farm - ECPv6.15.17//NONSGML v1.0//EN
CALSCALE:GREGORIAN
METHOD:PUBLISH
X-ORIGINAL-URL:https://holcombfarm.org
X-WR-CALDESC:Events for Holcomb Farm
REFRESH-INTERVAL;VALUE=DURATION:PT1H
X-Robots-Tag:noindex
X-PUBLISHED-TTL:PT1H
BEGIN:VTIMEZONE
TZID:America/New_York
BEGIN:DAYLIGHT
TZOFFSETFROM:-0500
TZOFFSETTO:-0400
TZNAME:EDT
DTSTART:20190310T070000
END:DAYLIGHT
BEGIN:STANDARD
TZOFFSETFROM:-0400
TZOFFSETTO:-0500
TZNAME:EST
DTSTART:20191103T060000
END:STANDARD
BEGIN:DAYLIGHT
TZOFFSETFROM:-0500
TZOFFSETTO:-0400
TZNAME:EDT
DTSTART:20200308T070000
END:DAYLIGHT
BEGIN:STANDARD
TZOFFSETFROM:-0400
TZOFFSETTO:-0500
TZNAME:EST
DTSTART:20201101T060000
END:STANDARD
BEGIN:DAYLIGHT
TZOFFSETFROM:-0500
TZOFFSETTO:-0400
TZNAME:EDT
DTSTART:20210314T070000
END:DAYLIGHT
BEGIN:STANDARD
TZOFFSETFROM:-0400
TZOFFSETTO:-0500
TZNAME:EST
DTSTART:20211107T060000
END:STANDARD
END:VTIMEZONE
BEGIN:VEVENT
DTSTART;TZID=America/New_York:20200816T163000
DTEND;TZID=America/New_York:20200816T173000
DTSTAMP:20260421T124414
CREATED:20200803T134744Z
LAST-MODIFIED:20200803T134744Z
UID:7795-1597595400-1597599000@holcombfarm.org
SUMMARY:2020 Annual Meeting of the Friends of Holcomb Farm
DESCRIPTION:All members of the Friends of Holcomb Farm are invited to our Annual Meeting\, which will be held at “the Seat\,” located at the top at the Holcomb Tree Trail at Holcomb Farm. To comply with State social distancing guidelines\, we will meet outdoors this year — and\, sadly\, without our pie baking contest. Guided tours of the Tree Trail will take place before the meeting.\nPlease park at the main Holcomb Farm complex and walk across the intersection of Simsbury Road and Day Street South to the Holcomb Tree Trail\, accessed via the gravel farm road. Please see the attached trail map for routes to the Seat or look for trail signs to the event. If you are interested\, Tree Trail tours will depart from the Seat between 3:30 and 4:00pm and the meeting will begin at 4:30pm. \nSeating and bottled water will be provided. Please wear your mask when you arrive at the Seat. Please let us know if you cannot reach the Seat on foot\, so we can make alternate transportation arrangements. In the event of inclement weather\, we will meet under the roof at the North Barn at the main farm complex.
URL:https://holcombfarm.org/event/2020-annual-meeting-of-the-friends-of-holcomb-farm/
LOCATION:Holcomb Farm\, 113 Simsbury Road\, West Granby\, CT\, 06090\, United States
END:VEVENT
END:VCALENDAR