BEGIN:VCALENDAR
VERSION:2.0
PRODID:-//Holcomb Farm - ECPv6.15.17//NONSGML v1.0//EN
CALSCALE:GREGORIAN
METHOD:PUBLISH
X-ORIGINAL-URL:https://holcombfarm.org
X-WR-CALDESC:Events for Holcomb Farm
REFRESH-INTERVAL;VALUE=DURATION:PT1H
X-Robots-Tag:noindex
X-PUBLISHED-TTL:PT1H
BEGIN:VTIMEZONE
TZID:America/New_York
BEGIN:DAYLIGHT
TZOFFSETFROM:-0500
TZOFFSETTO:-0400
TZNAME:EDT
DTSTART:20210314T070000
END:DAYLIGHT
BEGIN:STANDARD
TZOFFSETFROM:-0400
TZOFFSETTO:-0500
TZNAME:EST
DTSTART:20211107T060000
END:STANDARD
BEGIN:DAYLIGHT
TZOFFSETFROM:-0500
TZOFFSETTO:-0400
TZNAME:EDT
DTSTART:20220313T070000
END:DAYLIGHT
BEGIN:STANDARD
TZOFFSETFROM:-0400
TZOFFSETTO:-0500
TZNAME:EST
DTSTART:20221106T060000
END:STANDARD
BEGIN:DAYLIGHT
TZOFFSETFROM:-0500
TZOFFSETTO:-0400
TZNAME:EDT
DTSTART:20230312T070000
END:DAYLIGHT
BEGIN:STANDARD
TZOFFSETFROM:-0400
TZOFFSETTO:-0500
TZNAME:EST
DTSTART:20231105T060000
END:STANDARD
END:VTIMEZONE
BEGIN:VEVENT
DTSTART;TZID=America/New_York:20220521T100000
DTEND;TZID=America/New_York:20220521T180000
DTSTAMP:20260419T093202
CREATED:20220315T151830Z
LAST-MODIFIED:20220315T151830Z
UID:8301-1653127200-1653156000@holcombfarm.org
SUMMARY:Plant Sale Part II
DESCRIPTION:Part 2 of our annual Plant and Seedling Sale will take place on May 20 and 21 from 10 am to 6 pm. Here\, in addition to some of the veggies\, flowers\, and herbs we’ll be selling earlier in the month\, we will introduce some summer-lovin’ big boys like melons\, tomatoes\, eggplant\, cucumbers\, zucchini\, and basil. Whether you’re planning to plant a full veggie garden or a few pots of herbs on the patio\, Holcomb Farm is where you’ll want to start. Come see us on May 20 and 21 from 10 am to 6 pm\, at our Farm Store – 111 Simsbury Road in West Granby.
URL:https://holcombfarm.org/event/plant-sale-part-ii-2/
LOCATION:Farm Store & CSA Barn\, 111 Simsbury Road\, West Granby\, CT\, 06090\, United States
ATTACH;FMTTYPE=image/jpeg:https://holcombfarm.org/wp-content/uploads/2022/03/seedling-sale.jpg
END:VEVENT
END:VCALENDAR