BEGIN:VCALENDAR
VERSION:2.0
PRODID:-//Holcomb Farm - ECPv6.15.17//NONSGML v1.0//EN
CALSCALE:GREGORIAN
METHOD:PUBLISH
X-WR-CALNAME:Holcomb Farm
X-ORIGINAL-URL:https://holcombfarm.org
X-WR-CALDESC:Events for Holcomb Farm
REFRESH-INTERVAL;VALUE=DURATION:PT1H
X-Robots-Tag:noindex
X-PUBLISHED-TTL:PT1H
BEGIN:VTIMEZONE
TZID:America/New_York
BEGIN:DAYLIGHT
TZOFFSETFROM:-0500
TZOFFSETTO:-0400
TZNAME:EDT
DTSTART:20210314T070000
END:DAYLIGHT
BEGIN:STANDARD
TZOFFSETFROM:-0400
TZOFFSETTO:-0500
TZNAME:EST
DTSTART:20211107T060000
END:STANDARD
BEGIN:DAYLIGHT
TZOFFSETFROM:-0500
TZOFFSETTO:-0400
TZNAME:EDT
DTSTART:20220313T070000
END:DAYLIGHT
BEGIN:STANDARD
TZOFFSETFROM:-0400
TZOFFSETTO:-0500
TZNAME:EST
DTSTART:20221106T060000
END:STANDARD
BEGIN:DAYLIGHT
TZOFFSETFROM:-0500
TZOFFSETTO:-0400
TZNAME:EDT
DTSTART:20230312T070000
END:DAYLIGHT
BEGIN:STANDARD
TZOFFSETFROM:-0400
TZOFFSETTO:-0500
TZNAME:EST
DTSTART:20231105T060000
END:STANDARD
END:VTIMEZONE
BEGIN:VEVENT
DTSTART;TZID=America/New_York:20220626T100000
DTEND;TZID=America/New_York:20220626T130000
DTSTAMP:20260419T105539
CREATED:20220315T155137Z
LAST-MODIFIED:20220613T012403Z
UID:8313-1656237600-1656248400@holcombfarm.org
SUMMARY:Sunday Farm Brunch
DESCRIPTION:Join us for a family-friendly summer celebration – a Farm Brunch – on June 26 from 10 am to 1 pm in the North Barn Pavilion at Holcomb Farm. This will be a fundraiser for our Fresh Access program\, through which we provide healthy\, farm-fresh produce to food-insecure people in Granby and the Greater Hartford area. The past two years we were unable to host our annual Harvest Dinner fundraiser\, and we are excited to gather with our farm family again. To help our supporters understand all the good they do through their generosity\, we will welcome guests from our partner agencies\, who can speak to the impact Fresh Access has among those in need. Brunch will be catered by Clark Farms at Bushy Hill Orchard\, live music will be provided by acclaimed singer-songwriter Brandon Serafino\, and specialty coffees will be provided by Circuit Coffee’s Food Truck. We will have lawn games for kids of all ages\, our rock star farm crew will be on-hand to answer questions about the farm\, and it will all take place with a gorgeous view of the fields where we grow our extraordinary fruits and veggies. Order your tickets today!
URL:https://holcombfarm.org/event/sunday-farm-brunch/
LOCATION:Holcomb Farm North Barn\, 113 Simsbury Road\, West Granby\, CT\, 06090\, United States
ATTACH;FMTTYPE=image/jpeg:https://holcombfarm.org/wp-content/uploads/2022/03/Barn-Door-Entry.jpg
END:VEVENT
END:VCALENDAR