BEGIN:VCALENDAR
VERSION:2.0
PRODID:-//Holcomb Farm - ECPv6.15.17//NONSGML v1.0//EN
CALSCALE:GREGORIAN
METHOD:PUBLISH
X-ORIGINAL-URL:https://holcombfarm.org
X-WR-CALDESC:Events for Holcomb Farm
REFRESH-INTERVAL;VALUE=DURATION:PT1H
X-Robots-Tag:noindex
X-PUBLISHED-TTL:PT1H
BEGIN:VTIMEZONE
TZID:America/New_York
BEGIN:DAYLIGHT
TZOFFSETFROM:-0500
TZOFFSETTO:-0400
TZNAME:EDT
DTSTART:20210314T070000
END:DAYLIGHT
BEGIN:STANDARD
TZOFFSETFROM:-0400
TZOFFSETTO:-0500
TZNAME:EST
DTSTART:20211107T060000
END:STANDARD
BEGIN:DAYLIGHT
TZOFFSETFROM:-0500
TZOFFSETTO:-0400
TZNAME:EDT
DTSTART:20220313T070000
END:DAYLIGHT
BEGIN:STANDARD
TZOFFSETFROM:-0400
TZOFFSETTO:-0500
TZNAME:EST
DTSTART:20221106T060000
END:STANDARD
BEGIN:DAYLIGHT
TZOFFSETFROM:-0500
TZOFFSETTO:-0400
TZNAME:EDT
DTSTART:20230312T070000
END:DAYLIGHT
BEGIN:STANDARD
TZOFFSETFROM:-0400
TZOFFSETTO:-0500
TZNAME:EST
DTSTART:20231105T060000
END:STANDARD
END:VTIMEZONE
BEGIN:VEVENT
DTSTART;TZID=America/New_York:20220820T100000
DTEND;TZID=America/New_York:20220820T110000
DTSTAMP:20260419T140115
CREATED:20220728T114849Z
LAST-MODIFIED:20220815T194058Z
UID:8433-1660989600-1660993200@holcombfarm.org
SUMMARY:Friends of Holcomb Farm Annual Meeting
DESCRIPTION:The Friends of Holcomb Farm will host its annual meeting on Saturday\, August 20\, at 10 am\, with tours of the Holcomb Tree Trail beforehand. Please park at the main Holcomb Farm complex located at 113 Simsbury Road. Walk across the intersection of Simsbury Road and Day Street South to the Holcomb Tree Trail. Proceed up the gravel farm road and follow the signs to the Seat\, which is the group of benches at the top of the Knoll. This walk takes 5-10 minutes. We will provide rides up the hill to those in need of assistance. Seating and bottled water will be provided. We look forward to celebrating our accomplishments\, recognizing all who have given so much time and energy to the farm this year\, and sharing our plans for the year ahead. \nTree Trail tours \nWe will be offering short guided Tree Trail tours before the meeting. If you are interested\, tours will depart from the meeting site at 9:00 and 9:30AM. \nYou are invited to review our 2021 Annual Report in advance of the meeting if you can. Thank you!
URL:https://holcombfarm.org/event/friends-of-holcomb-farm-annual-meeting-2/
LOCATION:Holcomb Farm\, 113 Simsbury Road\, West Granby\, CT\, 06090\, United States
ATTACH;FMTTYPE=image/jpeg:https://holcombfarm.org/wp-content/uploads/2021/07/Main-Campus-from-East-Fields-in-Spring-Banner.jpg
END:VEVENT
END:VCALENDAR