BEGIN:VCALENDAR
VERSION:2.0
PRODID:-//Holcomb Farm - ECPv6.15.17//NONSGML v1.0//EN
CALSCALE:GREGORIAN
METHOD:PUBLISH
X-WR-CALNAME:Holcomb Farm
X-ORIGINAL-URL:https://holcombfarm.org
X-WR-CALDESC:Events for Holcomb Farm
REFRESH-INTERVAL;VALUE=DURATION:PT1H
X-Robots-Tag:noindex
X-PUBLISHED-TTL:PT1H
BEGIN:VTIMEZONE
TZID:America/New_York
BEGIN:DAYLIGHT
TZOFFSETFROM:-0500
TZOFFSETTO:-0400
TZNAME:EDT
DTSTART:20190310T070000
END:DAYLIGHT
BEGIN:STANDARD
TZOFFSETFROM:-0400
TZOFFSETTO:-0500
TZNAME:EST
DTSTART:20191103T060000
END:STANDARD
BEGIN:DAYLIGHT
TZOFFSETFROM:-0500
TZOFFSETTO:-0400
TZNAME:EDT
DTSTART:20200308T070000
END:DAYLIGHT
BEGIN:STANDARD
TZOFFSETFROM:-0400
TZOFFSETTO:-0500
TZNAME:EST
DTSTART:20201101T060000
END:STANDARD
BEGIN:DAYLIGHT
TZOFFSETFROM:-0500
TZOFFSETTO:-0400
TZNAME:EDT
DTSTART:20210314T070000
END:DAYLIGHT
BEGIN:STANDARD
TZOFFSETFROM:-0400
TZOFFSETTO:-0500
TZNAME:EST
DTSTART:20211107T060000
END:STANDARD
END:VTIMEZONE
BEGIN:VEVENT
DTSTART;TZID=America/New_York:20200409T160000
DTEND;TZID=America/New_York:20200409T190000
DTSTAMP:20260423T175801
CREATED:20200401T203150Z
LAST-MODIFIED:20200401T203150Z
UID:7641-1586448000-1586458800@holcombfarm.org
SUMMARY:
DESCRIPTION:Holcomb Farm and other local farmers will be at the Lost Acres Vineyard Holiday Market. While you stock up on your Easter wine\, you can see what early-season goods we have!
URL:https://holcombfarm.org/event/7641/
LOCATION:Lost Acres Vineyard\, 80 Lost Acres Road\, North Granby\, CT\, 06060\, United States
END:VEVENT
BEGIN:VEVENT
DTSTART;TZID=America/New_York:20200409T160000
DTEND;TZID=America/New_York:20200409T190000
DTSTAMP:20260423T175801
CREATED:20200401T203536Z
LAST-MODIFIED:20200407T154335Z
UID:7645-1586448000-1586458800@holcombfarm.org
SUMMARY:Lost Acres Vineyard Holiday Farmer's Market
DESCRIPTION:EVENT CANCELLED\nHolcomb Farm and other local farmers will be at the LAV Holiday Farmer’s Market. While you stock up on your Easter wine\, you can see what early-season goods we have to offer!
URL:https://holcombfarm.org/event/holcomb-farm-day-lost-acres-vineyard-2/
LOCATION:Lost Acres Vineyard\, 80 Lost Acres Road\, North Granby\, CT\, 06060\, United States
END:VEVENT
BEGIN:VEVENT
DTSTART;TZID=America/New_York:20200425T130000
DTEND;TZID=America/New_York:20200425T160000
DTSTAMP:20260423T175801
CREATED:20200401T202954Z
LAST-MODIFIED:20200401T202954Z
UID:7639-1587819600-1587830400@holcombfarm.org
SUMMARY:Holcomb Farm Day @ Lost Acres Vineyard
DESCRIPTION:Ten percent of profits from sales of wine will be donated to the Friends’ Fresh Access program. Once again this year\, we will have Chef Chris Prosperi of Metro Bis demonstrating his magic at 3 pm. Stay tuned for more details!
URL:https://holcombfarm.org/event/holcomb-farm-day-lost-acres-vineyard/
LOCATION:Lost Acres Vineyard\, 80 Lost Acres Road\, North Granby\, CT\, 06060\, United States
END:VEVENT
BEGIN:VEVENT
DTSTART;TZID=America/New_York:20200429T190000
DTEND;TZID=America/New_York:20200429T203000
DTSTAMP:20260423T175801
CREATED:20200401T192209Z
LAST-MODIFIED:20200407T154527Z
UID:7622-1588186800-1588192200@holcombfarm.org
SUMMARY:Tree Lecture with Master Gardener R. Herman
DESCRIPTION:THIS EVENT HAS BEEN POSTPONED UNTIL THE FALL. \nA talk by Master Gardener Robert Herman. Co-hosted by Granby Recreation and Leisure Services.
URL:https://holcombfarm.org/event/tree-lecture/
LOCATION:CT
END:VEVENT
END:VCALENDAR