BEGIN:VCALENDAR
VERSION:2.0
PRODID:-//Holcomb Farm - ECPv6.15.17//NONSGML v1.0//EN
CALSCALE:GREGORIAN
METHOD:PUBLISH
X-WR-CALNAME:Holcomb Farm
X-ORIGINAL-URL:https://holcombfarm.org
X-WR-CALDESC:Events for Holcomb Farm
REFRESH-INTERVAL;VALUE=DURATION:PT1H
X-Robots-Tag:noindex
X-PUBLISHED-TTL:PT1H
BEGIN:VTIMEZONE
TZID:America/New_York
BEGIN:DAYLIGHT
TZOFFSETFROM:-0500
TZOFFSETTO:-0400
TZNAME:EDT
DTSTART:20190310T070000
END:DAYLIGHT
BEGIN:STANDARD
TZOFFSETFROM:-0400
TZOFFSETTO:-0500
TZNAME:EST
DTSTART:20191103T060000
END:STANDARD
BEGIN:DAYLIGHT
TZOFFSETFROM:-0500
TZOFFSETTO:-0400
TZNAME:EDT
DTSTART:20200308T070000
END:DAYLIGHT
BEGIN:STANDARD
TZOFFSETFROM:-0400
TZOFFSETTO:-0500
TZNAME:EST
DTSTART:20201101T060000
END:STANDARD
BEGIN:DAYLIGHT
TZOFFSETFROM:-0500
TZOFFSETTO:-0400
TZNAME:EDT
DTSTART:20210314T070000
END:DAYLIGHT
BEGIN:STANDARD
TZOFFSETFROM:-0400
TZOFFSETTO:-0500
TZNAME:EST
DTSTART:20211107T060000
END:STANDARD
END:VTIMEZONE
BEGIN:VEVENT
DTSTART;VALUE=DATE:20200606
DTEND;VALUE=DATE:20200607
DTSTAMP:20260423T123447
CREATED:20200401T192947Z
LAST-MODIFIED:20200401T192947Z
UID:7633-1591401600-1591487999@holcombfarm.org
SUMMARY:Connecticut Trails Day
DESCRIPTION:SAVE THE DATE!\nMore information to follow!
URL:https://holcombfarm.org/event/connecticut-trails-day/
LOCATION:Holcomb Farm\, 113 Simsbury Road\, West Granby\, CT\, 06090\, United States
END:VEVENT
BEGIN:VEVENT
DTSTART;VALUE=DATE:20200607
DTEND;VALUE=DATE:20200608
DTSTAMP:20260423T123447
CREATED:20200401T193544Z
LAST-MODIFIED:20200407T154437Z
UID:7635-1591488000-1591574399@holcombfarm.org
SUMMARY:Friends of Holcomb Farm Annual Membership Meeting
DESCRIPTION:THIS EVENT HAS BEEN POSTPONED UNTIL THE FALL. \nAll current members of the Friends of Holcomb Farm are invited to our annual meeting. The event will include a guided walk on our Tree Trail and our Third Annual Pie Baking (and Eating!) Contest. More information to follow!
URL:https://holcombfarm.org/event/friends-of-holcomb-farm-annual-membership-meeting/
LOCATION:Holcomb Farm\, 113 Simsbury Road\, West Granby\, CT\, 06090\, United States
END:VEVENT
BEGIN:VEVENT
DTSTART;TZID=America/New_York:20200616T100000
DTEND;TZID=America/New_York:20200616T180000
DTSTAMP:20260423T123447
CREATED:20200401T193902Z
LAST-MODIFIED:20200401T193902Z
UID:7637-1592301600-1592330400@holcombfarm.org
SUMMARY:CSA & Farm Store Opening Day!
DESCRIPTION:Today marks the start of our 20-week CSA\, as well as the 2020 Opening Day of our Farm Store! Don’t miss it!
URL:https://holcombfarm.org/event/csa-farm-store-opening-day/
LOCATION:Farm Store & CSA Barn\, 111 Simsbury Road\, West Granby\, CT\, 06090\, United States
END:VEVENT
END:VCALENDAR