BEGIN:VCALENDAR
VERSION:2.0
PRODID:-//Holcomb Farm - ECPv6.15.17//NONSGML v1.0//EN
CALSCALE:GREGORIAN
METHOD:PUBLISH
X-ORIGINAL-URL:https://holcombfarm.org
X-WR-CALDESC:Events for Holcomb Farm
REFRESH-INTERVAL;VALUE=DURATION:PT1H
X-Robots-Tag:noindex
X-PUBLISHED-TTL:PT1H
BEGIN:VTIMEZONE
TZID:America/New_York
BEGIN:DAYLIGHT
TZOFFSETFROM:-0500
TZOFFSETTO:-0400
TZNAME:EDT
DTSTART:20200308T070000
END:DAYLIGHT
BEGIN:STANDARD
TZOFFSETFROM:-0400
TZOFFSETTO:-0500
TZNAME:EST
DTSTART:20201101T060000
END:STANDARD
BEGIN:DAYLIGHT
TZOFFSETFROM:-0500
TZOFFSETTO:-0400
TZNAME:EDT
DTSTART:20210314T070000
END:DAYLIGHT
BEGIN:STANDARD
TZOFFSETFROM:-0400
TZOFFSETTO:-0500
TZNAME:EST
DTSTART:20211107T060000
END:STANDARD
BEGIN:DAYLIGHT
TZOFFSETFROM:-0500
TZOFFSETTO:-0400
TZNAME:EDT
DTSTART:20220313T070000
END:DAYLIGHT
BEGIN:STANDARD
TZOFFSETFROM:-0400
TZOFFSETTO:-0500
TZNAME:EST
DTSTART:20221106T060000
END:STANDARD
END:VTIMEZONE
BEGIN:VEVENT
DTSTART;TZID=America/New_York:20211105T100000
DTEND;TZID=America/New_York:20211105T180000
DTSTAMP:20260425T135137
CREATED:20211025T194947Z
LAST-MODIFIED:20211025T194947Z
UID:8201-1636106400-1636135200@holcombfarm.org
SUMMARY:Pop-Up Market at Our Farm Store!
DESCRIPTION:Come one\, come all to our Fall Pop-Up Market at the CSA Barn & Farm Store! \nWe will have winter squash\, rainbow carrots\, beets\, leeks\, sweet potatoes\, turnips\, potatoes\, baby kale\, arugula\, lettuce\, watermelon radishes\, daikon radishes\, cilantro\, garlic\, sunchokes\, kohlrabi\, cabbage\, brussel sprouts\, and much more — all grown without chemical pesticides — and all full of flavor and nutrition. Shop local\, where the supply chain runs from our fields to our barn!
URL:https://holcombfarm.org/event/pop-up-market-at-our-farm-store/
LOCATION:Farm Store & CSA Barn\, 111 Simsbury Road\, West Granby\, CT\, 06090\, United States
ATTACH;FMTTYPE=image/jpeg:https://holcombfarm.org/wp-content/uploads/2021/08/Basket-of-Sexy-Winter-Veggies-scaled.jpg
END:VEVENT
BEGIN:VEVENT
DTSTART;TZID=America/New_York:20211106T100000
DTEND;TZID=America/New_York:20211106T180000
DTSTAMP:20260425T135137
CREATED:20211025T195139Z
LAST-MODIFIED:20211025T195139Z
UID:8203-1636192800-1636221600@holcombfarm.org
SUMMARY:Pop-Up Market at Our Farm Store!
DESCRIPTION:Come one\, come all to our Fall Pop-Up Market at the CSA Barn & Farm Store! \nWe will have winter squash\, rainbow carrots\, beets\, leeks\, sweet potatoes\, turnips\, potatoes\, baby kale\, arugula\, lettuce\, watermelon radishes\, daikon radishes\, cilantro\, garlic\, sunchokes\, kohlrabi\, cabbage\, brussel sprouts\, and much more — all grown without chemical pesticides — and all full of flavor and nutrition. Shop local\, where the supply chain runs from our fields to our barn!
URL:https://holcombfarm.org/event/pop-up-market-at-our-farm-store-2/
LOCATION:Farm Store & CSA Barn\, 111 Simsbury Road\, West Granby\, CT\, 06090\, United States
ATTACH;FMTTYPE=image/jpeg:https://holcombfarm.org/wp-content/uploads/2021/08/Basket-of-Sexy-Winter-Veggies-scaled.jpg
END:VEVENT
BEGIN:VEVENT
DTSTART;TZID=America/New_York:20211119T100000
DTEND;TZID=America/New_York:20211119T180000
DTSTAMP:20260425T135137
CREATED:20211025T200148Z
LAST-MODIFIED:20211025T200925Z
UID:8205-1637316000-1637344800@holcombfarm.org
SUMMARY:Big Thanksgiving Sale @ Holcomb Farm!
DESCRIPTION:Shop local for your Thanksgiving Dinner! The Farm Store at Holcomb Farm will be open for four days leading up to Thanksgiving\, selling all the produce you need to make your favorite holiday recipes. All are invited to shop Holcomb Farm and make this your best Thanksgiving Dinner ever.
URL:https://holcombfarm.org/event/big-thanksgiving-sale/
LOCATION:Farm Store & CSA Barn\, 111 Simsbury Road\, West Granby\, CT\, 06090\, United States
ATTACH;FMTTYPE=image/png:https://holcombfarm.org/wp-content/uploads/2021/10/Screenshot-2021-10-12-150825.png
END:VEVENT
BEGIN:VEVENT
DTSTART;TZID=America/New_York:20211120T100000
DTEND;TZID=America/New_York:20211120T180000
DTSTAMP:20260425T135137
CREATED:20211025T200324Z
LAST-MODIFIED:20211025T200951Z
UID:8208-1637402400-1637431200@holcombfarm.org
SUMMARY:Big Thanksgiving Sale @ Holcomb Farm!
DESCRIPTION:Shop local for your Thanksgiving Dinner! The Farm Store at Holcomb Farm will be open for four days leading up to Thanksgiving\, selling all the produce you need to make your favorite holiday recipes. All are invited to shop Holcomb Farm and make this your best Thanksgiving Dinner ever.
URL:https://holcombfarm.org/event/big-thanksgiving-sale-2/
LOCATION:Farm Store & CSA Barn\, 111 Simsbury Road\, West Granby\, CT\, 06090\, United States
ATTACH;FMTTYPE=image/png:https://holcombfarm.org/wp-content/uploads/2021/10/Screenshot-2021-10-12-150825.png
END:VEVENT
BEGIN:VEVENT
DTSTART;TZID=America/New_York:20211122T100000
DTEND;TZID=America/New_York:20211122T180000
DTSTAMP:20260425T135137
CREATED:20211025T200645Z
LAST-MODIFIED:20211025T201039Z
UID:8214-1637575200-1637604000@holcombfarm.org
SUMMARY:Big Thanksgiving Sale @ Holcomb Farm!
DESCRIPTION:Shop local for your Thanksgiving Dinner! The Farm Store at Holcomb Farm will be open for four days leading up to Thanksgiving\, selling all the produce you need to make your favorite holiday recipes. All are invited to shop Holcomb Farm and make this your best Thanksgiving Dinner ever.
URL:https://holcombfarm.org/event/big-thanksgiving-sale-4/
LOCATION:Farm Store & CSA Barn\, 111 Simsbury Road\, West Granby\, CT\, 06090\, United States
ATTACH;FMTTYPE=image/png:https://holcombfarm.org/wp-content/uploads/2021/10/Screenshot-2021-10-12-150825.png
END:VEVENT
BEGIN:VEVENT
DTSTART;TZID=America/New_York:20211122T130000
DTEND;TZID=America/New_York:20211122T190000
DTSTAMP:20260425T135137
CREATED:20211025T200852Z
LAST-MODIFIED:20211025T201352Z
UID:8216-1637586000-1637607600@holcombfarm.org
SUMMARY:Thanksgiving Market at Lost Acres Vineyard
DESCRIPTION:
URL:https://holcombfarm.org/event/thanksgiving-market-at-lost-acres-vineyard/
LOCATION:Lost Acres Vineyard\, 80 Lost Acres Road\, North Granby\, CT\, 06060\, United States
ATTACH;FMTTYPE=image/jpeg:https://holcombfarm.org/wp-content/uploads/2018/11/lost-acres-vineyard.jpg
END:VEVENT
BEGIN:VEVENT
DTSTART;TZID=America/New_York:20211123T100000
DTEND;TZID=America/New_York:20211123T180000
DTSTAMP:20260425T135137
CREATED:20211025T200546Z
LAST-MODIFIED:20211025T201101Z
UID:8212-1637661600-1637690400@holcombfarm.org
SUMMARY:Big Thanksgiving Sale @ Holcomb Farm!
DESCRIPTION:Shop local for your Thanksgiving Dinner! The Farm Store at Holcomb Farm will be open for four days leading up to Thanksgiving\, selling all the produce you need to make your favorite holiday recipes. All are invited to shop Holcomb Farm and make this your best Thanksgiving Dinner ever.
URL:https://holcombfarm.org/event/big-thanksgiving-sale-3/
LOCATION:Farm Store & CSA Barn\, 111 Simsbury Road\, West Granby\, CT\, 06090\, United States
ATTACH;FMTTYPE=image/png:https://holcombfarm.org/wp-content/uploads/2021/10/Screenshot-2021-10-12-150825.png
END:VEVENT
BEGIN:VEVENT
DTSTART;TZID=America/New_York:20211123T100000
DTEND;TZID=America/New_York:20211123T180000
DTSTAMP:20260425T135137
CREATED:20211025T202015Z
LAST-MODIFIED:20211025T202108Z
UID:8227-1637661600-1637690400@holcombfarm.org
SUMMARY:Fresh Turkey Distribution
DESCRIPTION:If you ordered a fresh\, Ekonk Hill turkey from us\, please pick it up today between 10 am and 6 pm. (For information on ordering\, click here.)
URL:https://holcombfarm.org/event/fresh-turkey-distribution/
LOCATION:Farm Store & CSA Barn\, 111 Simsbury Road\, West Granby\, CT\, 06090\, United States
ATTACH;FMTTYPE=image/jpeg:https://holcombfarm.org/wp-content/uploads/2021/10/Thanksgiving-Turkey-Stock-Photo-from-Patrick-scaled.jpg
END:VEVENT
END:VCALENDAR