BEGIN:VCALENDAR
VERSION:2.0
PRODID:-//Holcomb Farm - ECPv6.15.17//NONSGML v1.0//EN
CALSCALE:GREGORIAN
METHOD:PUBLISH
X-ORIGINAL-URL:https://holcombfarm.org
X-WR-CALDESC:Events for Holcomb Farm
REFRESH-INTERVAL;VALUE=DURATION:PT1H
X-Robots-Tag:noindex
X-PUBLISHED-TTL:PT1H
BEGIN:VTIMEZONE
TZID:America/New_York
BEGIN:DAYLIGHT
TZOFFSETFROM:-0500
TZOFFSETTO:-0400
TZNAME:EDT
DTSTART:20200308T070000
END:DAYLIGHT
BEGIN:STANDARD
TZOFFSETFROM:-0400
TZOFFSETTO:-0500
TZNAME:EST
DTSTART:20201101T060000
END:STANDARD
BEGIN:DAYLIGHT
TZOFFSETFROM:-0500
TZOFFSETTO:-0400
TZNAME:EDT
DTSTART:20210314T070000
END:DAYLIGHT
BEGIN:STANDARD
TZOFFSETFROM:-0400
TZOFFSETTO:-0500
TZNAME:EST
DTSTART:20211107T060000
END:STANDARD
BEGIN:DAYLIGHT
TZOFFSETFROM:-0500
TZOFFSETTO:-0400
TZNAME:EDT
DTSTART:20220313T070000
END:DAYLIGHT
BEGIN:STANDARD
TZOFFSETFROM:-0400
TZOFFSETTO:-0500
TZNAME:EST
DTSTART:20221106T060000
END:STANDARD
END:VTIMEZONE
BEGIN:VEVENT
DTSTART;TZID=America/New_York:20211218T100000
DTEND;TZID=America/New_York:20211218T140000
DTSTAMP:20260425T122128
CREATED:20211011T153354Z
LAST-MODIFIED:20211025T201302Z
UID:8185-1639821600-1639836000@holcombfarm.org
SUMMARY:Holiday Market at Lost Acres Vineyard
DESCRIPTION:Get everything you need for a festive celebration at the Holiday Indoor Farmers Market! Wine\, produce\, meats\, cheeses\, baked goods and specialty products will be available for sale! Holcomb Farm will be there with a wide selection of winter vegetables to make your holiday meals more special. See you there!
URL:https://holcombfarm.org/event/holiday-market-at-lost-acres-vineyard/
LOCATION:CT
ATTACH;FMTTYPE=image/jpeg:https://holcombfarm.org/wp-content/uploads/2018/11/lost-acres-vineyard.jpg
END:VEVENT
END:VCALENDAR