BEGIN:VCALENDAR
VERSION:2.0
PRODID:-//Holcomb Farm - ECPv6.15.17//NONSGML v1.0//EN
CALSCALE:GREGORIAN
METHOD:PUBLISH
X-ORIGINAL-URL:https://holcombfarm.org
X-WR-CALDESC:Events for Holcomb Farm
REFRESH-INTERVAL;VALUE=DURATION:PT1H
X-Robots-Tag:noindex
X-PUBLISHED-TTL:PT1H
BEGIN:VTIMEZONE
TZID:America/New_York
BEGIN:DAYLIGHT
TZOFFSETFROM:-0500
TZOFFSETTO:-0400
TZNAME:EDT
DTSTART:20210314T070000
END:DAYLIGHT
BEGIN:STANDARD
TZOFFSETFROM:-0400
TZOFFSETTO:-0500
TZNAME:EST
DTSTART:20211107T060000
END:STANDARD
BEGIN:DAYLIGHT
TZOFFSETFROM:-0500
TZOFFSETTO:-0400
TZNAME:EDT
DTSTART:20220313T070000
END:DAYLIGHT
BEGIN:STANDARD
TZOFFSETFROM:-0400
TZOFFSETTO:-0500
TZNAME:EST
DTSTART:20221106T060000
END:STANDARD
BEGIN:DAYLIGHT
TZOFFSETFROM:-0500
TZOFFSETTO:-0400
TZNAME:EDT
DTSTART:20230312T070000
END:DAYLIGHT
BEGIN:STANDARD
TZOFFSETFROM:-0400
TZOFFSETTO:-0500
TZNAME:EST
DTSTART:20231105T060000
END:STANDARD
END:VTIMEZONE
BEGIN:VEVENT
DTSTART;TZID=America/New_York:20220217T100000
DTEND;TZID=America/New_York:20220217T160000
DTSTAMP:20260425T122210
CREATED:20220217T170918Z
LAST-MODIFIED:20220217T171252Z
UID:8265-1645092000-1645113600@holcombfarm.org
SUMMARY:Pop-Up Veggie Sale
DESCRIPTION:Order by emailing joe@holcombfarm.org\, then pick up a pre-packed bag “curbside” at Holcomb Farm! Each bag will contain sweet potatoes\, “Irish” potatoes\, beets\, carrots\, rutabaga\, cabbage\, rainbow daikon radishes and fresh greenhouse greens. Pickup hours are Thurs. and Fri. from 10 am – 4 pm and Sat. from 10 am – 2 pm at the Farm Store & CSA Barn at Holcomb Farm. Cash or check accepted at pickup. Cost per bag is $75; $70 for 2022 Summer CSA Shareholders (and there will be free add-ons and extras for CSA Shareholders\, too!). To join our Summer CSA\, go to www.holcombfarm.org.
URL:https://holcombfarm.org/event/pop-up-veggie-sale/
LOCATION:Farm Store & CSA Barn\, 111 Simsbury Road\, West Granby\, CT\, 06090\, United States
ATTACH;FMTTYPE=image/jpeg:https://holcombfarm.org/wp-content/uploads/2021/12/Dec-21-Sale-Contents.jpg
END:VEVENT
BEGIN:VEVENT
DTSTART;TZID=America/New_York:20220218T100000
DTEND;TZID=America/New_York:20220218T160000
DTSTAMP:20260425T122210
CREATED:20220217T171120Z
LAST-MODIFIED:20220217T171120Z
UID:8269-1645178400-1645200000@holcombfarm.org
SUMMARY:Pop-Up Veggie Sale
DESCRIPTION:Order by emailing joe@holcombfarm.org\, then pick up a pre-packed bag “curbside” at Holcomb Farm! Each bag will contain sweet potatoes\, “Irish” potatoes\, beets\, carrots\, rutabaga\, cabbage\, rainbow daikon radishes and fresh greenhouse greens. Pickup hours are Thurs. and Fri. from 10 am – 4 pm and Sat. from 10 am – 2 pm at the Farm Store & CSA Barn at Holcomb Farm. Cash or check accepted at pickup. Cost per bag is $75; $70 for 2022 Summer CSA Shareholders (and there will be free add-ons and extras for CSA Shareholders\, too!). To join our Summer CSA\, go to www.holcombfarm.org.
URL:https://holcombfarm.org/event/pop-up-veggie-sale-2/
LOCATION:Farm Store & CSA Barn\, 111 Simsbury Road\, West Granby\, CT\, 06090\, United States
ATTACH;FMTTYPE=image/jpeg:https://holcombfarm.org/wp-content/uploads/2021/12/Dec-21-Sale-Contents.jpg
END:VEVENT
BEGIN:VEVENT
DTSTART;TZID=America/New_York:20220219T100000
DTEND;TZID=America/New_York:20220219T140000
DTSTAMP:20260425T122210
CREATED:20220217T171217Z
LAST-MODIFIED:20220217T171217Z
UID:8271-1645264800-1645279200@holcombfarm.org
SUMMARY:Pop-Up Veggie Sale
DESCRIPTION:Order by emailing joe@holcombfarm.org\, then pick up a pre-packed bag “curbside” at Holcomb Farm! Each bag will contain sweet potatoes\, “Irish” potatoes\, beets\, carrots\, rutabaga\, cabbage\, rainbow daikon radishes and fresh greenhouse greens. Pickup hours are Thurs. and Fri. from 10 am – 4 pm and Sat. from 10 am – 2 pm at the Farm Store & CSA Barn at Holcomb Farm. Cash or check accepted at pickup. Cost per bag is $75; $70 for 2022 Summer CSA Shareholders (and there will be free add-ons and extras for CSA Shareholders\, too!). To join our Summer CSA\, go to www.holcombfarm.org.
URL:https://holcombfarm.org/event/pop-up-veggie-sale-3/
LOCATION:Farm Store & CSA Barn\, 111 Simsbury Road\, West Granby\, CT\, 06090\, United States
ATTACH;FMTTYPE=image/jpeg:https://holcombfarm.org/wp-content/uploads/2021/12/Dec-21-Sale-Contents.jpg
END:VEVENT
END:VCALENDAR